BEGIN:VCALENDAR
VERSION:2.0
PRODID:-//Village Of Marble Cliff Site - ECPv6.15.20//NONSGML v1.0//EN
CALSCALE:GREGORIAN
METHOD:PUBLISH
X-WR-CALNAME:Village Of Marble Cliff Site
X-ORIGINAL-URL:https://marblecliff.org
X-WR-CALDESC:Events for Village Of Marble Cliff Site
REFRESH-INTERVAL;VALUE=DURATION:PT1H
X-Robots-Tag:noindex
X-PUBLISHED-TTL:PT1H
BEGIN:VTIMEZONE
TZID:UTC
BEGIN:STANDARD
TZOFFSETFROM:+0000
TZOFFSETTO:+0000
TZNAME:UTC
DTSTART:20260101T000000
END:STANDARD
END:VTIMEZONE
BEGIN:VEVENT
DTSTART;VALUE=DATE:20270101
DTEND;VALUE=DATE:20270102
DTSTAMP:20260425T111550
CREATED:20251209T153951Z
LAST-MODIFIED:20251209T153951Z
UID:10001607-1798761600-1798847999@marblecliff.org
SUMMARY:Village Hall Closed
DESCRIPTION:
URL:https://marblecliff.org/event/village-hall-closed-5/2027-01-01/
END:VEVENT
BEGIN:VEVENT
DTSTART;VALUE=DATE:20280101
DTEND;VALUE=DATE:20280102
DTSTAMP:20260425T111550
CREATED:20251209T153951Z
LAST-MODIFIED:20251209T153951Z
UID:10001608-1830297600-1830383999@marblecliff.org
SUMMARY:Village Hall Closed
DESCRIPTION:
URL:https://marblecliff.org/event/village-hall-closed-5/2028-01-01/
END:VEVENT
BEGIN:VEVENT
DTSTART;VALUE=DATE:20290101
DTEND;VALUE=DATE:20290102
DTSTAMP:20260425T111550
CREATED:20251209T153951Z
LAST-MODIFIED:20251209T153951Z
UID:10001609-1861920000-1862006399@marblecliff.org
SUMMARY:Village Hall Closed
DESCRIPTION:
URL:https://marblecliff.org/event/village-hall-closed-5/2029-01-01/
END:VEVENT
BEGIN:VEVENT
DTSTART;VALUE=DATE:20300101
DTEND;VALUE=DATE:20300102
DTSTAMP:20260425T111550
CREATED:20251209T153951Z
LAST-MODIFIED:20251209T153951Z
UID:10001610-1893456000-1893542399@marblecliff.org
SUMMARY:Village Hall Closed
DESCRIPTION:
URL:https://marblecliff.org/event/village-hall-closed-5/2030-01-01/
END:VEVENT
END:VCALENDAR