BEGIN:VCALENDAR
VERSION:2.0
PRODID:-//Village Of Marble Cliff Site - ECPv6.15.20//NONSGML v1.0//EN
CALSCALE:GREGORIAN
METHOD:PUBLISH
X-ORIGINAL-URL:https://marblecliff.org
X-WR-CALDESC:Events for Village Of Marble Cliff Site
REFRESH-INTERVAL;VALUE=DURATION:PT1H
X-Robots-Tag:noindex
X-PUBLISHED-TTL:PT1H
BEGIN:VTIMEZONE
TZID:UTC
BEGIN:STANDARD
TZOFFSETFROM:+0000
TZOFFSETTO:+0000
TZNAME:UTC
DTSTART:20240101T000000
END:STANDARD
END:VTIMEZONE
BEGIN:VEVENT
DTSTART;VALUE=DATE:20250305
DTEND;VALUE=DATE:20250306
DTSTAMP:20260425T124640
CREATED:20250214T180717Z
LAST-MODIFIED:20250313T214604Z
UID:10000036-1741132800-1741219199@marblecliff.org
SUMMARY:Food Scrap Pickup
DESCRIPTION:
URL:https://marblecliff.org/event/march-2025-food-scrap-pickup-1/
END:VEVENT
BEGIN:VEVENT
DTSTART;VALUE=DATE:20250307
DTEND;VALUE=DATE:20250308
DTSTAMP:20260425T124640
CREATED:20250208T184524Z
LAST-MODIFIED:20250223T204713Z
UID:10000011-1741305600-1741391999@marblecliff.org
SUMMARY:Trash & Recycling Pick Up
DESCRIPTION:
URL:https://marblecliff.org/event/trash-recycling-pick-up-fridays-feb-7-2025/
END:VEVENT
BEGIN:VEVENT
DTSTART;VALUE=DATE:20250307
DTEND;VALUE=DATE:20250308
DTSTAMP:20260425T124640
CREATED:20250924T140701Z
LAST-MODIFIED:20251105T145459Z
UID:10001253-1741305600-1741391999@marblecliff.org
SUMMARY:Trash & Recycling Pick Up
DESCRIPTION:Trash and Recycling is every Friday. If it lands on a holiday\, the pick up will be moved to Monday next week.
URL:https://marblecliff.org/event/trash-recycling-pick-up-4/2025-03-07/
END:VEVENT
BEGIN:VEVENT
DTSTART;VALUE=DATE:20250312
DTEND;VALUE=DATE:20250313
DTSTAMP:20260425T124640
CREATED:20250214T180740Z
LAST-MODIFIED:20250313T214612Z
UID:10000037-1741737600-1741823999@marblecliff.org
SUMMARY:Food Scrap Pickup
DESCRIPTION:
URL:https://marblecliff.org/event/march-2025-food-scrap-pickup-2/
END:VEVENT
BEGIN:VEVENT
DTSTART;VALUE=DATE:20250314
DTEND;VALUE=DATE:20250315
DTSTAMP:20260425T124640
CREATED:20250208T184743Z
LAST-MODIFIED:20250223T204816Z
UID:10000012-1741910400-1741996799@marblecliff.org
SUMMARY:Trash & Recycling Pick Up
DESCRIPTION:
URL:https://marblecliff.org/event/trash-recycling-pick-up-friday-14-2025/
END:VEVENT
BEGIN:VEVENT
DTSTART;VALUE=DATE:20250314
DTEND;VALUE=DATE:20250315
DTSTAMP:20260425T124640
CREATED:20250924T140701Z
LAST-MODIFIED:20251105T145459Z
UID:10001254-1741910400-1741996799@marblecliff.org
SUMMARY:Trash & Recycling Pick Up
DESCRIPTION:Trash and Recycling is every Friday. If it lands on a holiday\, the pick up will be moved to Monday next week.
URL:https://marblecliff.org/event/trash-recycling-pick-up-4/2025-03-14/
END:VEVENT
BEGIN:VEVENT
DTSTART;TZID=UTC:20250317T190000
DTEND;TZID=UTC:20250317T200000
DTSTAMP:20260425T124640
CREATED:20250214T153411Z
LAST-MODIFIED:20250214T153438Z
UID:10000015-1742238000-1742241600@marblecliff.org
SUMMARY:Village Council Meeting
DESCRIPTION:Agenda coming soon.
URL:https://marblecliff.org/event/march-2025-village-council-meeting/
LOCATION:Village Hall\, 1600 Fernwood Avenue\, Columbus\, Ohio\, 43212\, United States
ORGANIZER;CN="The Village of Marble Cliff":MAILTO:info@marblecliff.org
END:VEVENT
BEGIN:VEVENT
DTSTART;VALUE=DATE:20250319
DTEND;VALUE=DATE:20250320
DTSTAMP:20260425T124640
CREATED:20250214T180838Z
LAST-MODIFIED:20251202T153845Z
UID:10000038-1742342400-1742428799@marblecliff.org
SUMMARY:Food Scrap Pickup
DESCRIPTION:To join curbside food scrap pickup\, email your information to info@marblecliff.org or call 614-486-6993
URL:https://marblecliff.org/event/food-scrap-pickup/2025-03-19/
ATTACH;FMTTYPE=image/jpeg:https://marblecliff.org/wp-content/uploads/2025/06/TCE-Bucket.jpg
END:VEVENT
BEGIN:VEVENT
DTSTART;VALUE=DATE:20250321
DTEND;VALUE=DATE:20250322
DTSTAMP:20260425T124640
CREATED:20250208T185012Z
LAST-MODIFIED:20250223T204859Z
UID:10000013-1742515200-1742601599@marblecliff.org
SUMMARY:Trash & Recycling Pick Up
DESCRIPTION:
URL:https://marblecliff.org/event/trash-recycling-pick-up-friday-21-2025/
END:VEVENT
BEGIN:VEVENT
DTSTART;VALUE=DATE:20250321
DTEND;VALUE=DATE:20250322
DTSTAMP:20260425T124640
CREATED:20250924T140701Z
LAST-MODIFIED:20251105T145459Z
UID:10001255-1742515200-1742601599@marblecliff.org
SUMMARY:Trash & Recycling Pick Up
DESCRIPTION:Trash and Recycling is every Friday. If it lands on a holiday\, the pick up will be moved to Monday next week.
URL:https://marblecliff.org/event/trash-recycling-pick-up-4/2025-03-21/
END:VEVENT
BEGIN:VEVENT
DTSTART;VALUE=DATE:20250326
DTEND;VALUE=DATE:20250327
DTSTAMP:20260425T124640
CREATED:20250214T180838Z
LAST-MODIFIED:20251202T153845Z
UID:10000039-1742947200-1743033599@marblecliff.org
SUMMARY:Food Scrap Pickup
DESCRIPTION:To join curbside food scrap pickup\, email your information to info@marblecliff.org or call 614-486-6993
URL:https://marblecliff.org/event/food-scrap-pickup/2025-03-26/
ATTACH;FMTTYPE=image/jpeg:https://marblecliff.org/wp-content/uploads/2025/06/TCE-Bucket.jpg
END:VEVENT
BEGIN:VEVENT
DTSTART;VALUE=DATE:20250328
DTEND;VALUE=DATE:20250329
DTSTAMP:20260425T124640
CREATED:20250208T185125Z
LAST-MODIFIED:20250924T135646Z
UID:10000014-1743120000-1743206399@marblecliff.org
SUMMARY:Trash & Recycling Pick Up
DESCRIPTION:Trash and Recycling is every Friday. If it lands on a holiday\, the pick up will be moved to Monday next week.
URL:https://marblecliff.org/event/trash-recycling-pick-up/2025-03-28/1/
ATTACH;FMTTYPE=image/jpeg:https://marblecliff.org/wp-content/uploads/2025/02/1000021123-scaled.jpg
END:VEVENT
BEGIN:VEVENT
DTSTART;VALUE=DATE:20250328
DTEND;VALUE=DATE:20250329
DTSTAMP:20260425T124640
CREATED:20250924T140701Z
LAST-MODIFIED:20251105T145459Z
UID:10001256-1743120000-1743206399@marblecliff.org
SUMMARY:Trash & Recycling Pick Up
DESCRIPTION:Trash and Recycling is every Friday. If it lands on a holiday\, the pick up will be moved to Monday next week.
URL:https://marblecliff.org/event/trash-recycling-pick-up-4/2025-03-28/
END:VEVENT
BEGIN:VEVENT
DTSTART;VALUE=DATE:20250328
DTEND;VALUE=DATE:20250329
DTSTAMP:20260425T124640
CREATED:20250208T185125Z
LAST-MODIFIED:20250924T135646Z
UID:10000635-1743148800-1743181200@marblecliff.org
SUMMARY:Trash & Recycling Pick Up
DESCRIPTION:Trash and Recycling is every Friday. If it lands on a holiday\, the pick up will be moved to Monday next week.
URL:https://marblecliff.org/event/trash-recycling-pick-up/2025-03-28/2/
ATTACH;FMTTYPE=image/jpeg:https://marblecliff.org/wp-content/uploads/2025/02/1000021123-scaled.jpg
END:VEVENT
END:VCALENDAR